BEGIN:VCALENDAR
VERSION:2.0
PRODID:-//Edmonton Federation of Community Leagues - ECPv6.15.19//NONSGML v1.0//EN
CALSCALE:GREGORIAN
METHOD:PUBLISH
X-ORIGINAL-URL:https://efcl.org
X-WR-CALDESC:Events for Edmonton Federation of Community Leagues
REFRESH-INTERVAL;VALUE=DURATION:PT1H
X-Robots-Tag:noindex
X-PUBLISHED-TTL:PT1H
BEGIN:VTIMEZONE
TZID:America/Edmonton
BEGIN:DAYLIGHT
TZOFFSETFROM:-0700
TZOFFSETTO:-0600
TZNAME:MDT
DTSTART:20240310T090000
END:DAYLIGHT
BEGIN:STANDARD
TZOFFSETFROM:-0600
TZOFFSETTO:-0700
TZNAME:MST
DTSTART:20241103T080000
END:STANDARD
BEGIN:DAYLIGHT
TZOFFSETFROM:-0700
TZOFFSETTO:-0600
TZNAME:MDT
DTSTART:20250309T090000
END:DAYLIGHT
BEGIN:STANDARD
TZOFFSETFROM:-0600
TZOFFSETTO:-0700
TZNAME:MST
DTSTART:20251102T080000
END:STANDARD
BEGIN:DAYLIGHT
TZOFFSETFROM:-0700
TZOFFSETTO:-0600
TZNAME:MDT
DTSTART:20260308T090000
END:DAYLIGHT
BEGIN:STANDARD
TZOFFSETFROM:-0600
TZOFFSETTO:-0700
TZNAME:MST
DTSTART:20261101T080000
END:STANDARD
END:VTIMEZONE
BEGIN:VEVENT
DTSTART;TZID=America/Edmonton:20250428T120000
DTEND;TZID=America/Edmonton:20250428T160000
DTSTAMP:20260420T084631
CREATED:20250428T215626Z
LAST-MODIFIED:20250428T215626Z
UID:10004013-1745841600-1745856000@efcl.org
SUMMARY:Lynnwood Spring Bee
DESCRIPTION:All the Bee’s of Spring!\nEveryone welcome to this event!\nBook Sale\,  Bake Sale\, Bike Tune Up\, Bike Lessons\, Blooms (Plant Swap)\, BBQ and Beer! \nPost Event Movie Wallace and Gromit in the hall at 6pm! \nOnline Silent Auction Fundraiser\nhttps://can.givergy.com/LCLAuction2025/?controller=home
URL:https://efcl.org/event/lynnwood-spring-bee/
LOCATION:Lynnwood Community League\, 15525 84 Avenue\, Edmonton\, Canada
CATEGORIES:League Events
ATTACH;FMTTYPE=image/jpeg:https://efcl.org/wp-content/uploads/2025/04/2025-Spring-Bee-April-22.jpg
ORGANIZER;CN="Lynnwood Community League":MAILTO:president@lynnwoodcommunity.com
GEO:53.5166368;-113.5898318
X-APPLE-STRUCTURED-LOCATION;VALUE=URI;X-ADDRESS=Lynnwood Community League 15525 84 Avenue Edmonton Canada;X-APPLE-RADIUS=500;X-TITLE=15525 84 Avenue:geo:-113.5898318,53.5166368
END:VEVENT
BEGIN:VEVENT
DTSTART;TZID=America/Edmonton:20250426T130000
DTEND;TZID=America/Edmonton:20250426T163000
DTSTAMP:20260420T084631
CREATED:20250326T163743Z
LAST-MODIFIED:20250326T163920Z
UID:10003980-1745672400-1745685000@efcl.org
SUMMARY:Earth Day Festival
DESCRIPTION:Head out to Alberta Ave for Earth Day. There will be Family Activities\, Green Innovations\, Solar / Heat pump Displays\, Live music\, Speakers  on climate\, environment\, affordability\, and more.  1pm-4:30pm
URL:https://efcl.org/event/earth-day-festival/
LOCATION:Alberta Avenue Community League\, 118 Avenue Northwest\, Edmonton\, T5G 0N2\, Canada
CATEGORIES:Green Events,League Events
ATTACH;FMTTYPE=image/png:https://efcl.org/wp-content/uploads/2025/03/Socials-Earth-Day-Festival-Save-the-Date.png
GEO:53.5707101;-113.4831594
X-APPLE-STRUCTURED-LOCATION;VALUE=URI;X-ADDRESS=Alberta Avenue Community League 118 Avenue Northwest Edmonton T5G 0N2 Canada;X-APPLE-RADIUS=500;X-TITLE=118 Avenue Northwest:geo:-113.4831594,53.5707101
END:VEVENT
BEGIN:VEVENT
DTSTART;TZID=America/Edmonton:20250426T130000
DTEND;TZID=America/Edmonton:20250426T160000
DTSTAMP:20260420T084631
CREATED:20250403T151154Z
LAST-MODIFIED:20250403T152352Z
UID:10004004-1745672400-1745683200@efcl.org
SUMMARY:Capital City Clean Up - Wîhkwêntôwin Community League
DESCRIPTION:Roll up your sleeves and let’s make our community sparkle! This is a family-friendly event\, so bring your friends and neighbours for an afternoon of community connection and planet-saving action!
URL:https://efcl.org/event/capital-city-clean-up-wihkwentowin-community-league/
LOCATION:Wîhkwêntôwin Community League (Oliver)\, Edmonton\, Canada
CATEGORIES:Green Events,League Events
ATTACH;FMTTYPE=image/jpeg:https://efcl.org/wp-content/uploads/2025/04/OIP.jpg
ORGANIZER;CN="W%C3%AEhkw%C3%AAnt%C3%B4win Community League (Oliver)":MAILTO:info@olivercommunity.com
END:VEVENT
BEGIN:VEVENT
DTSTART;TZID=America/Edmonton:20250426T123000
DTEND;TZID=America/Edmonton:20250426T163000
DTSTAMP:20260420T084631
CREATED:20250319T145555Z
LAST-MODIFIED:20250319T145555Z
UID:10003968-1745670600-1745685000@efcl.org
SUMMARY:Earth Day Festival 2025
DESCRIPTION:Join us for an afternoon of fun\, food\, inspiration\, entertainment\, activities\, community\, insight and celebration!  \n🗓️ Sat\, April 26 \n⌚ 12:30 – 1:00 Welcome and Registration \n      1:00-2:00 pm Indigenous Ceremony\, impactful speakers\, Raging Grannies \n      2:00-4:30 pm family activities\, art\, green innovations\, films\, live music\, food\, fun! \n🏤 Alberta Avenue Community League\, 9210 118 Avenue\, Edmonton \n🌎 Our Power\, Our Country\, Our Planet \n      climate solutions = affordability + health + national unity + a good life for all \nFor info or to volunteer contact – SCAN! Edmonton: edmontonclimateseniors@gmail.com \nLet’s come together to celebrate\, for inspiration on how to protect our beautiful earth\, and to unify to build a better future for all!
URL:https://efcl.org/event/earth-day-festival-2025/
LOCATION:Alberta Avenue Community League\, 118 Avenue Northwest\, Edmonton\, T5G 0N2\, Canada
CATEGORIES:Civics,Green Events,Inclusion,Indigenous
ATTACH;FMTTYPE=image/png:https://efcl.org/wp-content/uploads/2025/03/Socials-Earth-Day-Festival-Save-the-Date.png
ORGANIZER;CN="SCAN! Edmonton":MAILTO:tylene.appel@gmail.com
GEO:53.5707101;-113.4831594
X-APPLE-STRUCTURED-LOCATION;VALUE=URI;X-ADDRESS=Alberta Avenue Community League 118 Avenue Northwest Edmonton T5G 0N2 Canada;X-APPLE-RADIUS=500;X-TITLE=118 Avenue Northwest:geo:-113.4831594,53.5707101
END:VEVENT
BEGIN:VEVENT
DTSTART;TZID=America/Edmonton:20250426T120000
DTEND;TZID=America/Edmonton:20250426T153000
DTSTAMP:20260420T084632
CREATED:20250402T145731Z
LAST-MODIFIED:20250402T150115Z
UID:10004003-1745668800-1745681400@efcl.org
SUMMARY:Westwood CL Earth Day BBQ & Neighborhood Clean-Up
DESCRIPTION:Event by Westwood Community League\n12139 105 Street NW\, Edmonton\, AB\, Canada\, Alberta T5G 2N7\nPublic · Anyone on or off Facebook\n Celebrate Earth Day with Your Neighbours! \nJoin us for an unforgettable Earth Day BBQ & Neighborhood Clean-Up event on Saturday\, April 26\, 2025!\n BBQ Kick-Off: Noon
URL:https://efcl.org/event/westwood-cl-earth-day-bbq-neighborhood-clean-up/
LOCATION:Westwood Community League\, 105 Street Northwest\, Edmonton\, T6E 4S1\, Canada
ATTACH;FMTTYPE=image/jpeg:https://efcl.org/wp-content/uploads/2025/04/Earth-Day-2025-1.jpg
ORGANIZER;CN="Westwood Community League":MAILTO:engage@westwoodcl.ca
GEO:53.5230331;-113.5001937
X-APPLE-STRUCTURED-LOCATION;VALUE=URI;X-ADDRESS=Westwood Community League 105 Street Northwest Edmonton T6E 4S1 Canada;X-APPLE-RADIUS=500;X-TITLE=105 Street Northwest:geo:-113.5001937,53.5230331
END:VEVENT
BEGIN:VEVENT
DTSTART;TZID=America/Edmonton:20250426T120000
DTEND;TZID=America/Edmonton:20250426T150000
DTSTAMP:20260420T084632
CREATED:20250330T174733Z
LAST-MODIFIED:20250330T174733Z
UID:10003982-1745668800-1745679600@efcl.org
SUMMARY:Earth Day BBQ & Neighbourhood Clean-Up
DESCRIPTION: Celebrate Earth Day with Your Neighbours! \n\nJoin us for an unforgettable Earth Day BBQ & Neighborhood Clean-Up event on Saturday\, April 26\, 2025!\n\n BBQ Kick-Off: Noon Neighborhood Clean-Up: 1 PM – 3 PM\n\nRoll up your sleeves\, enjoy a burger or three\, and let’s make our community sparkle! This is a family-friendly event\, so bring your friends and neighbours for an afternoon of community connection and planet-saving action!\n\n Weather Alert! If Mother Nature isn’t in the mood to shine\, don’t worry—we’ll reschedule for Saturday\, May 3\, 2025.\n\n Let’s make a difference together! Mark your calendar and come be part of the fun!
URL:https://efcl.org/event/earth-day-bbq-neighbourhood-clean-up/
LOCATION:Westwood Community League\, 105 Street Northwest\, Edmonton\, T6E 4S1\, Canada
CATEGORIES:Green Events,League Events
ATTACH;FMTTYPE=image/png:https://efcl.org/wp-content/uploads/2025/03/BBQCleanUp.png
ORGANIZER;CN="Westwood Community League":MAILTO:engage@westwoodcl.ca
GEO:53.5230331;-113.5001937
X-APPLE-STRUCTURED-LOCATION;VALUE=URI;X-ADDRESS=Westwood Community League 105 Street Northwest Edmonton T6E 4S1 Canada;X-APPLE-RADIUS=500;X-TITLE=105 Street Northwest:geo:-113.5001937,53.5230331
END:VEVENT
END:VCALENDAR